BEGIN:VCALENDAR
VERSION:2.0
PRODID:-//Legacurry - ECPv6.15.20//NONSGML v1.0//EN
CALSCALE:GREGORIAN
METHOD:PUBLISH
X-WR-CALNAME:Legacurry
X-ORIGINAL-URL:https://legacurry.church
X-WR-CALDESC:Events for Legacurry
REFRESH-INTERVAL;VALUE=DURATION:PT1H
X-Robots-Tag:noindex
X-PUBLISHED-TTL:PT1H
BEGIN:VTIMEZONE
TZID:Europe/London
BEGIN:DAYLIGHT
TZOFFSETFROM:+0000
TZOFFSETTO:+0100
TZNAME:BST
DTSTART:20230326T010000
END:DAYLIGHT
BEGIN:STANDARD
TZOFFSETFROM:+0100
TZOFFSETTO:+0000
TZNAME:GMT
DTSTART:20231029T010000
END:STANDARD
BEGIN:DAYLIGHT
TZOFFSETFROM:+0000
TZOFFSETTO:+0100
TZNAME:BST
DTSTART:20240331T010000
END:DAYLIGHT
BEGIN:STANDARD
TZOFFSETFROM:+0100
TZOFFSETTO:+0000
TZNAME:GMT
DTSTART:20241027T010000
END:STANDARD
BEGIN:DAYLIGHT
TZOFFSETFROM:+0000
TZOFFSETTO:+0100
TZNAME:BST
DTSTART:20250330T010000
END:DAYLIGHT
BEGIN:STANDARD
TZOFFSETFROM:+0100
TZOFFSETTO:+0000
TZNAME:GMT
DTSTART:20251026T010000
END:STANDARD
END:VTIMEZONE
BEGIN:VEVENT
DTSTART;TZID=Europe/London:20240604T193000
DTEND;TZID=Europe/London:20240604T193000
DTSTAMP:20260422T174013
CREATED:20240528T102614Z
LAST-MODIFIED:20240528T102624Z
UID:8746-1717529400-1717529400@legacurry.church
SUMMARY:Youth Committee
DESCRIPTION:
URL:https://legacurry.church/event/youth-committee-2/
CATEGORIES:Church Event,Meeting
END:VEVENT
BEGIN:VEVENT
DTSTART;TZID=Europe/London:20240610T193000
DTEND;TZID=Europe/London:20240610T193000
DTSTAMP:20260422T174013
CREATED:20240528T105556Z
LAST-MODIFIED:20240528T105606Z
UID:8754-1718047800-1718047800@legacurry.church
SUMMARY:Church Committee
DESCRIPTION:
URL:https://legacurry.church/event/church-committee-9/
CATEGORIES:Meeting
END:VEVENT
BEGIN:VEVENT
DTSTART;TZID=Europe/London:20240614T150000
DTEND;TZID=Europe/London:20240614T200000
DTSTAMP:20260422T174013
CREATED:20240526T163614Z
LAST-MODIFIED:20240526T175312Z
UID:8728-1718377200-1718395200@legacurry.church
SUMMARY:Ladies Outing
DESCRIPTION:All ladies are welcome to come along and enjoy an outing on Friday 14 June. Meeting in the church car park at 3.00pm and driving to Bedeck in Magheralin\, then on to Edenmore Golf Club for a candle-making session and evening meal. Cost will be £35 and sign up sheets are available in the vestibule.  Any questions\, speak to Ruth Montgomery or Ann McCullagh.
URL:https://legacurry.church/event/ladies-outing/
CATEGORIES:Church Event,Meeting
END:VEVENT
BEGIN:VEVENT
DTSTART;TZID=Europe/London:20240617T183000
DTEND;TZID=Europe/London:20240620T203000
DTSTAMP:20260422T174013
CREATED:20240526T163733Z
LAST-MODIFIED:20240526T175312Z
UID:8730-1718649000-1718915400@legacurry.church
SUMMARY:Work Week
DESCRIPTION:A week of work is being organised from 17 -20 June from 6.30pm each evening.  We are looking for people to come along to help with some tidying and maintenance of the property and grounds.
URL:https://legacurry.church/event/work-week/
CATEGORIES:Church Event,Meeting
END:VEVENT
BEGIN:VEVENT
DTSTART;TZID=Europe/London:20240626T190000
DTEND;TZID=Europe/London:20240626T190000
DTSTAMP:20260422T174013
CREATED:20240528T110405Z
LAST-MODIFIED:20240528T110412Z
UID:8764-1719428400-1719428400@legacurry.church
SUMMARY:HBC Leaders Meeting
DESCRIPTION:
URL:https://legacurry.church/event/hbc-leaders-meeting/
CATEGORIES:Meeting
END:VEVENT
END:VCALENDAR