BEGIN:VCALENDAR
VERSION:2.0
PRODID:-//Legacurry - ECPv6.15.20//NONSGML v1.0//EN
CALSCALE:GREGORIAN
METHOD:PUBLISH
X-WR-CALNAME:Legacurry
X-ORIGINAL-URL:https://legacurry.church
X-WR-CALDESC:Events for Legacurry
REFRESH-INTERVAL;VALUE=DURATION:PT1H
X-Robots-Tag:noindex
X-PUBLISHED-TTL:PT1H
BEGIN:VTIMEZONE
TZID:Europe/London
BEGIN:DAYLIGHT
TZOFFSETFROM:+0000
TZOFFSETTO:+0100
TZNAME:BST
DTSTART:20230326T010000
END:DAYLIGHT
BEGIN:STANDARD
TZOFFSETFROM:+0100
TZOFFSETTO:+0000
TZNAME:GMT
DTSTART:20231029T010000
END:STANDARD
BEGIN:DAYLIGHT
TZOFFSETFROM:+0000
TZOFFSETTO:+0100
TZNAME:BST
DTSTART:20240331T010000
END:DAYLIGHT
BEGIN:STANDARD
TZOFFSETFROM:+0100
TZOFFSETTO:+0000
TZNAME:GMT
DTSTART:20241027T010000
END:STANDARD
BEGIN:DAYLIGHT
TZOFFSETFROM:+0000
TZOFFSETTO:+0100
TZNAME:BST
DTSTART:20250330T010000
END:DAYLIGHT
BEGIN:STANDARD
TZOFFSETFROM:+0100
TZOFFSETTO:+0000
TZNAME:GMT
DTSTART:20251026T010000
END:STANDARD
END:VTIMEZONE
BEGIN:VEVENT
DTSTART;TZID=Europe/London:20240722T100000
DTEND;TZID=Europe/London:20240726T120000
DTSTAMP:20260420T080346
CREATED:20240526T164414Z
LAST-MODIFIED:20240526T175312Z
UID:8732-1721642400-1721995200@legacurry.church
SUMMARY:Legacurry Bible Club Scripture Safari
DESCRIPTION:Join us at Bible Club this summer\, for all current P1 – P7s.Click here to register.
URL:https://legacurry.church/event/legacurry-bible-club-scripture-safari/
CATEGORIES:Church Event,Meeting
END:VEVENT
BEGIN:VEVENT
DTSTART;TZID=Europe/London:20240723T193000
DTEND;TZID=Europe/London:20240723T193000
DTSTAMP:20260420T080346
CREATED:20240627T094848Z
LAST-MODIFIED:20240627T094853Z
UID:8786-1721763000-1721763000@legacurry.church
SUMMARY:Youth Committee
DESCRIPTION:
URL:https://legacurry.church/event/youth-committee-3/
CATEGORIES:Meeting
END:VEVENT
END:VCALENDAR