BEGIN:VCALENDAR
VERSION:2.0
PRODID:-//Legacurry - ECPv6.15.20//NONSGML v1.0//EN
CALSCALE:GREGORIAN
METHOD:PUBLISH
X-WR-CALNAME:Legacurry
X-ORIGINAL-URL:https://legacurry.church
X-WR-CALDESC:Events for Legacurry
REFRESH-INTERVAL;VALUE=DURATION:PT1H
X-Robots-Tag:noindex
X-PUBLISHED-TTL:PT1H
BEGIN:VTIMEZONE
TZID:Europe/London
BEGIN:DAYLIGHT
TZOFFSETFROM:+0000
TZOFFSETTO:+0100
TZNAME:BST
DTSTART:20220327T010000
END:DAYLIGHT
BEGIN:STANDARD
TZOFFSETFROM:+0100
TZOFFSETTO:+0000
TZNAME:GMT
DTSTART:20221030T010000
END:STANDARD
BEGIN:DAYLIGHT
TZOFFSETFROM:+0000
TZOFFSETTO:+0100
TZNAME:BST
DTSTART:20230326T010000
END:DAYLIGHT
BEGIN:STANDARD
TZOFFSETFROM:+0100
TZOFFSETTO:+0000
TZNAME:GMT
DTSTART:20231029T010000
END:STANDARD
BEGIN:DAYLIGHT
TZOFFSETFROM:+0000
TZOFFSETTO:+0100
TZNAME:BST
DTSTART:20240331T010000
END:DAYLIGHT
BEGIN:STANDARD
TZOFFSETFROM:+0100
TZOFFSETTO:+0000
TZNAME:GMT
DTSTART:20241027T010000
END:STANDARD
BEGIN:DAYLIGHT
TZOFFSETFROM:+0000
TZOFFSETTO:+0100
TZNAME:BST
DTSTART:20250330T010000
END:DAYLIGHT
BEGIN:STANDARD
TZOFFSETFROM:+0100
TZOFFSETTO:+0000
TZNAME:GMT
DTSTART:20251026T010000
END:STANDARD
END:VTIMEZONE
BEGIN:VEVENT
DTSTART;TZID=Europe/London:20230908T184500
DTEND;TZID=Europe/London:20230908T184500
DTSTAMP:20260422T230930
CREATED:20230829T105754Z
LAST-MODIFIED:20230829T105759Z
UID:8136-1694198700-1694198700@legacurry.church
SUMMARY:Boys Brigade
DESCRIPTION:
URL:https://legacurry.church/event/boys-brigade/
CATEGORIES:Church Event,Youth Events
END:VEVENT
BEGIN:VEVENT
DTSTART;TZID=Europe/London:20230911T193000
DTEND;TZID=Europe/London:20230911T193000
DTSTAMP:20260422T230930
CREATED:20230829T110138Z
LAST-MODIFIED:20230829T110144Z
UID:8142-1694460600-1694460600@legacurry.church
SUMMARY:Girls' Cell Group
DESCRIPTION:
URL:https://legacurry.church/event/girls-cell-group/
CATEGORIES:Youth Events
END:VEVENT
BEGIN:VEVENT
DTSTART;TZID=Europe/London:20230913T193000
DTEND;TZID=Europe/London:20230913T193000
DTSTAMP:20260422T230930
CREATED:20230829T110453Z
LAST-MODIFIED:20230829T110457Z
UID:8148-1694633400-1694633400@legacurry.church
SUMMARY:Boys' Cell Group
DESCRIPTION:
URL:https://legacurry.church/event/boys-cell-group-6/
CATEGORIES:Youth Events
END:VEVENT
BEGIN:VEVENT
DTSTART;TZID=Europe/London:20230924T193000
DTEND;TZID=Europe/London:20230924T210000
DTSTAMP:20260422T230930
CREATED:20230829T111354Z
LAST-MODIFIED:20230829T111358Z
UID:8154-1695583800-1695589200@legacurry.church
SUMMARY:Youth Fellowship
DESCRIPTION:
URL:https://legacurry.church/event/youth-fellowship-7/
CATEGORIES:Youth Events
END:VEVENT
BEGIN:VEVENT
DTSTART;TZID=Europe/London:20230925T193000
DTEND;TZID=Europe/London:20230925T193000
DTSTAMP:20260422T230930
CREATED:20230829T111537Z
LAST-MODIFIED:20230829T111542Z
UID:8156-1695670200-1695670200@legacurry.church
SUMMARY:Girls' Cell Group
DESCRIPTION:at Rachael Todd’s home
URL:https://legacurry.church/event/girls-cell-group-2/
CATEGORIES:Youth Events
END:VEVENT
BEGIN:VEVENT
DTSTART;TZID=Europe/London:20231008T193000
DTEND;TZID=Europe/London:20231008T193000
DTSTAMP:20260422T230930
CREATED:20230921T114736Z
LAST-MODIFIED:20230921T114740Z
UID:8264-1696793400-1696793400@legacurry.church
SUMMARY:Youth Fellowship
DESCRIPTION:
URL:https://legacurry.church/event/youth-fellowship-8/
CATEGORIES:Youth Events
END:VEVENT
BEGIN:VEVENT
DTSTART;TZID=Europe/London:20231011T193000
DTEND;TZID=Europe/London:20231011T193000
DTSTAMP:20260422T230930
CREATED:20230921T115040Z
LAST-MODIFIED:20230921T115044Z
UID:8270-1697052600-1697052600@legacurry.church
SUMMARY:Boys' Cell Group
DESCRIPTION:
URL:https://legacurry.church/event/boys-cell-group-8/
CATEGORIES:Youth Events
END:VEVENT
BEGIN:VEVENT
DTSTART;TZID=Europe/London:20231025T193000
DTEND;TZID=Europe/London:20231025T193000
DTSTAMP:20260422T230930
CREATED:20230927T165736Z
LAST-MODIFIED:20230927T165740Z
UID:8295-1698262200-1698262200@legacurry.church
SUMMARY:Boys' Cell Group
DESCRIPTION:
URL:https://legacurry.church/event/boys-cell-group-9/
CATEGORIES:Youth Events
END:VEVENT
BEGIN:VEVENT
DTSTART;TZID=Europe/London:20231105T193000
DTEND;TZID=Europe/London:20231105T193000
DTSTAMP:20260422T230930
CREATED:20231026T111518Z
LAST-MODIFIED:20231026T111523Z
UID:8328-1699212600-1699212600@legacurry.church
SUMMARY:Youth Fellowship
DESCRIPTION:
URL:https://legacurry.church/event/youth-fellowship-9/
CATEGORIES:Youth Events
END:VEVENT
BEGIN:VEVENT
DTSTART;TZID=Europe/London:20231108T193000
DTEND;TZID=Europe/London:20231108T193000
DTSTAMP:20260422T230930
CREATED:20231026T114034Z
LAST-MODIFIED:20231026T114037Z
UID:8352-1699471800-1699471800@legacurry.church
SUMMARY:Boys Cell Group
DESCRIPTION:
URL:https://legacurry.church/event/boys-cell-group-10/
CATEGORIES:Youth Events
END:VEVENT
BEGIN:VEVENT
DTSTART;TZID=Europe/London:20231119T193000
DTEND;TZID=Europe/London:20231119T193000
DTSTAMP:20260422T230930
CREATED:20231026T112807Z
LAST-MODIFIED:20231026T112813Z
UID:8340-1700422200-1700422200@legacurry.church
SUMMARY:Youth Fellowship
DESCRIPTION:
URL:https://legacurry.church/event/youth-fellowship-10/
CATEGORIES:Youth Events
END:VEVENT
BEGIN:VEVENT
DTSTART;TZID=Europe/London:20231122T193000
DTEND;TZID=Europe/London:20231122T193000
DTSTAMP:20260422T230930
CREATED:20231026T114157Z
LAST-MODIFIED:20231026T114201Z
UID:8354-1700681400-1700681400@legacurry.church
SUMMARY:Boys Cell Group
DESCRIPTION:
URL:https://legacurry.church/event/boys-cell-group-11/
CATEGORIES:Youth Events
END:VEVENT
BEGIN:VEVENT
DTSTART;TZID=Europe/London:20231126T193000
DTEND;TZID=Europe/London:20231126T193000
DTSTAMP:20260422T230930
CREATED:20231026T114730Z
LAST-MODIFIED:20231026T114734Z
UID:8358-1701027000-1701027000@legacurry.church
SUMMARY:18+ Fellowship
DESCRIPTION:at Phil Brown’s House
URL:https://legacurry.church/event/18-fellowship/
CATEGORIES:Youth Events
END:VEVENT
BEGIN:VEVENT
DTSTART;TZID=Europe/London:20231203T193000
DTEND;TZID=Europe/London:20231203T193000
DTSTAMP:20260422T230930
CREATED:20231128T113224Z
LAST-MODIFIED:20231128T113228Z
UID:8374-1701631800-1701631800@legacurry.church
SUMMARY:Youth Fellowship
DESCRIPTION:
URL:https://legacurry.church/event/youth-fellowship-11/
CATEGORIES:Youth Events
END:VEVENT
BEGIN:VEVENT
DTSTART;TZID=Europe/London:20231216T000000
DTEND;TZID=Europe/London:20231216T235959
DTSTAMP:20260422T230930
CREATED:20231128T114226Z
LAST-MODIFIED:20231128T114232Z
UID:8388-1702684800-1702771199@legacurry.church
SUMMARY:Youth Fellowship Party
DESCRIPTION:
URL:https://legacurry.church/event/youth-fellowship-party/
CATEGORIES:Youth Events
END:VEVENT
BEGIN:VEVENT
DTSTART;TZID=Europe/London:20240107T193000
DTEND;TZID=Europe/London:20240107T193000
DTSTAMP:20260422T230930
CREATED:20240102T112229Z
LAST-MODIFIED:20240102T112232Z
UID:8434-1704655800-1704655800@legacurry.church
SUMMARY:18+ Fellowship
DESCRIPTION:at John Ferguson’s home
URL:https://legacurry.church/event/18-fellowship-3/
CATEGORIES:Youth Events
END:VEVENT
BEGIN:VEVENT
DTSTART;TZID=Europe/London:20240114T193000
DTEND;TZID=Europe/London:20240114T193000
DTSTAMP:20260422T230930
CREATED:20240102T113549Z
LAST-MODIFIED:20240102T113553Z
UID:8446-1705260600-1705260600@legacurry.church
SUMMARY:Youth Fellowship
DESCRIPTION:
URL:https://legacurry.church/event/youth-fellowship-12/
CATEGORIES:Youth Events
END:VEVENT
BEGIN:VEVENT
DTSTART;TZID=Europe/London:20240117T193000
DTEND;TZID=Europe/London:20240117T193000
DTSTAMP:20260422T230930
CREATED:20240102T113855Z
LAST-MODIFIED:20240102T113859Z
UID:8452-1705519800-1705519800@legacurry.church
SUMMARY:Boys Cell Group
DESCRIPTION:
URL:https://legacurry.church/event/boys-cell-group-12/
CATEGORIES:Youth Events
END:VEVENT
BEGIN:VEVENT
DTSTART;TZID=Europe/London:20240121T193000
DTEND;TZID=Europe/London:20240121T193000
DTSTAMP:20260422T230930
CREATED:20240102T114828Z
LAST-MODIFIED:20240102T114833Z
UID:8456-1705865400-1705865400@legacurry.church
SUMMARY:18+ Fellowship
DESCRIPTION:
URL:https://legacurry.church/event/18-fellowship-4/
CATEGORIES:Youth Events
END:VEVENT
BEGIN:VEVENT
DTSTART;TZID=Europe/London:20240128T193000
DTEND;TZID=Europe/London:20240128T193000
DTSTAMP:20260422T230930
CREATED:20240102T115104Z
LAST-MODIFIED:20240102T115110Z
UID:8460-1706470200-1706470200@legacurry.church
SUMMARY:Youth Fellowship
DESCRIPTION:
URL:https://legacurry.church/event/youth-fellowship-13/
CATEGORIES:Youth Events
END:VEVENT
BEGIN:VEVENT
DTSTART;TZID=Europe/London:20240131T193000
DTEND;TZID=Europe/London:20240131T193000
DTSTAMP:20260422T230930
CREATED:20240102T115345Z
LAST-MODIFIED:20240102T115351Z
UID:8464-1706729400-1706729400@legacurry.church
SUMMARY:Boys Cell Group
DESCRIPTION:
URL:https://legacurry.church/event/boys-cell-group-13/
CATEGORIES:Youth Events
END:VEVENT
BEGIN:VEVENT
DTSTART;TZID=Europe/London:20240204T193000
DTEND;TZID=Europe/London:20240204T193000
DTSTAMP:20260422T230930
CREATED:20240130T124418Z
LAST-MODIFIED:20240130T124739Z
UID:8498-1707075000-1707075000@legacurry.church
SUMMARY:18+ Fellowship
DESCRIPTION:at J Pickering’s home
URL:https://legacurry.church/event/8-fellowship/
CATEGORIES:Youth Events
END:VEVENT
BEGIN:VEVENT
DTSTART;TZID=Europe/London:20240211T193000
DTEND;TZID=Europe/London:20240211T193000
DTSTAMP:20260422T230930
CREATED:20240130T130246Z
LAST-MODIFIED:20240130T130250Z
UID:8505-1707679800-1707679800@legacurry.church
SUMMARY:Youth Fellowship
DESCRIPTION:
URL:https://legacurry.church/event/youth-fellowship-14/
CATEGORIES:Youth Events
END:VEVENT
BEGIN:VEVENT
DTSTART;TZID=Europe/London:20240218T193000
DTEND;TZID=Europe/London:20240218T193000
DTSTAMP:20260422T230930
CREATED:20240201T101624Z
LAST-MODIFIED:20240201T101628Z
UID:8511-1708284600-1708284600@legacurry.church
SUMMARY:18+ Fellowship
DESCRIPTION:
URL:https://legacurry.church/event/18-fellowship-5/
CATEGORIES:Youth Events
END:VEVENT
BEGIN:VEVENT
DTSTART;TZID=Europe/London:20240225T193000
DTEND;TZID=Europe/London:20240225T193000
DTSTAMP:20260422T230930
CREATED:20240201T102115Z
LAST-MODIFIED:20240201T102119Z
UID:8519-1708889400-1708889400@legacurry.church
SUMMARY:Youth Fellowship
DESCRIPTION:
URL:https://legacurry.church/event/youth-fellowship-15/
CATEGORIES:Youth Events
END:VEVENT
BEGIN:VEVENT
DTSTART;TZID=Europe/London:20240228T193000
DTEND;TZID=Europe/London:20240228T193000
DTSTAMP:20260422T230930
CREATED:20240201T102515Z
LAST-MODIFIED:20240201T102521Z
UID:8525-1709148600-1709148600@legacurry.church
SUMMARY:Boys Cell Group
DESCRIPTION:
URL:https://legacurry.church/event/boys-cell-group-14/
CATEGORIES:Youth Events
END:VEVENT
BEGIN:VEVENT
DTSTART;TZID=Europe/London:20240303T193000
DTEND;TZID=Europe/London:20240303T193000
DTSTAMP:20260422T230930
CREATED:20240222T123822Z
LAST-MODIFIED:20240222T123826Z
UID:8553-1709494200-1709494200@legacurry.church
SUMMARY:18+ Fellowship
DESCRIPTION:
URL:https://legacurry.church/event/18-fellowship-6/
CATEGORIES:Youth Events
END:VEVENT
BEGIN:VEVENT
DTSTART;TZID=Europe/London:20240310T193000
DTEND;TZID=Europe/London:20240310T193000
DTSTAMP:20260422T230930
CREATED:20240222T124524Z
LAST-MODIFIED:20240222T124527Z
UID:8561-1710099000-1710099000@legacurry.church
SUMMARY:Youth Fellowship
DESCRIPTION:
URL:https://legacurry.church/event/youth-fellowship-16/
CATEGORIES:Youth Events
END:VEVENT
BEGIN:VEVENT
DTSTART;TZID=Europe/London:20240313T193000
DTEND;TZID=Europe/London:20240313T193000
DTSTAMP:20260422T230930
CREATED:20240222T124734Z
LAST-MODIFIED:20240222T124738Z
UID:8565-1710358200-1710358200@legacurry.church
SUMMARY:Boys Cell Group
DESCRIPTION:
URL:https://legacurry.church/event/boys-cell-group-15/
CATEGORIES:Youth Events
END:VEVENT
BEGIN:VEVENT
DTSTART;TZID=Europe/London:20240324T193000
DTEND;TZID=Europe/London:20240324T193000
DTSTAMP:20260422T230930
CREATED:20240222T131455Z
LAST-MODIFIED:20240222T131459Z
UID:8573-1711308600-1711308600@legacurry.church
SUMMARY:Youth Fellowship
DESCRIPTION:
URL:https://legacurry.church/event/youth-fellowship-17/
CATEGORIES:Youth Events
END:VEVENT
END:VCALENDAR