BEGIN:VCALENDAR
VERSION:2.0
PRODID:-//Legacurry - ECPv6.15.20//NONSGML v1.0//EN
CALSCALE:GREGORIAN
METHOD:PUBLISH
X-ORIGINAL-URL:https://legacurry.church
X-WR-CALDESC:Events for Legacurry
REFRESH-INTERVAL;VALUE=DURATION:PT1H
X-Robots-Tag:noindex
X-PUBLISHED-TTL:PT1H
BEGIN:VTIMEZONE
TZID:Europe/London
BEGIN:DAYLIGHT
TZOFFSETFROM:+0000
TZOFFSETTO:+0100
TZNAME:BST
DTSTART:20230326T010000
END:DAYLIGHT
BEGIN:STANDARD
TZOFFSETFROM:+0100
TZOFFSETTO:+0000
TZNAME:GMT
DTSTART:20231029T010000
END:STANDARD
BEGIN:DAYLIGHT
TZOFFSETFROM:+0000
TZOFFSETTO:+0100
TZNAME:BST
DTSTART:20240331T010000
END:DAYLIGHT
BEGIN:STANDARD
TZOFFSETFROM:+0100
TZOFFSETTO:+0000
TZNAME:GMT
DTSTART:20241027T010000
END:STANDARD
BEGIN:DAYLIGHT
TZOFFSETFROM:+0000
TZOFFSETTO:+0100
TZNAME:BST
DTSTART:20250330T010000
END:DAYLIGHT
BEGIN:STANDARD
TZOFFSETFROM:+0100
TZOFFSETTO:+0000
TZNAME:GMT
DTSTART:20251026T010000
END:STANDARD
END:VTIMEZONE
BEGIN:VEVENT
DTSTART;TZID=Europe/London:20240331T193000
DTEND;TZID=Europe/London:20240331T193000
DTSTAMP:20260420T015806
CREATED:20240222T131939Z
LAST-MODIFIED:20240222T131943Z
UID:8581-1711913400-1711913400@legacurry.church
SUMMARY:18+ Fellowship
DESCRIPTION:
URL:https://legacurry.church/event/18-fellowship-7/
CATEGORIES:Youth Events
END:VEVENT
BEGIN:VEVENT
DTSTART;TZID=Europe/London:20240407T193000
DTEND;TZID=Europe/London:20240407T210000
DTSTAMP:20260420T015806
CREATED:20240402T085904Z
LAST-MODIFIED:20240402T085908Z
UID:8603-1712518200-1712523600@legacurry.church
SUMMARY:Youth Fellowship
DESCRIPTION:
URL:https://legacurry.church/event/youth-fellowship-18/
CATEGORIES:Youth Events
END:VEVENT
BEGIN:VEVENT
DTSTART;TZID=Europe/London:20240410T193000
DTEND;TZID=Europe/London:20240410T193000
DTSTAMP:20260420T015806
CREATED:20240402T091554Z
LAST-MODIFIED:20240402T091559Z
UID:8623-1712777400-1712777400@legacurry.church
SUMMARY:Boys Cell Group
DESCRIPTION:
URL:https://legacurry.church/event/boys-cell-group-17/
CATEGORIES:Church Event,Youth Events
END:VEVENT
BEGIN:VEVENT
DTSTART;TZID=Europe/London:20240419T184500
DTEND;TZID=Europe/London:20240419T193000
DTSTAMP:20260420T015806
CREATED:20240402T090751Z
LAST-MODIFIED:20240402T090756Z
UID:8615-1713552300-1713555000@legacurry.church
SUMMARY:Anchor Boys Parents Night
DESCRIPTION:
URL:https://legacurry.church/event/anchor-boys-parents-night/
CATEGORIES:Church Event,Youth Events
END:VEVENT
BEGIN:VEVENT
DTSTART;TZID=Europe/London:20240419T195000
DTEND;TZID=Europe/London:20240419T203500
DTSTAMP:20260420T015806
CREATED:20240402T091120Z
LAST-MODIFIED:20240402T091123Z
UID:8617-1713556200-1713558900@legacurry.church
SUMMARY:Junior Section Parents Night
DESCRIPTION:
URL:https://legacurry.church/event/junior-section-parents-night/
CATEGORIES:Church Event,Youth Events
END:VEVENT
BEGIN:VEVENT
DTSTART;TZID=Europe/London:20240421T193000
DTEND;TZID=Europe/London:20240421T210000
DTSTAMP:20260420T015806
CREATED:20240402T091356Z
LAST-MODIFIED:20240402T091400Z
UID:8621-1713727800-1713733200@legacurry.church
SUMMARY:Youth Fellowship
DESCRIPTION:
URL:https://legacurry.church/event/youth-fellowship-19/
CATEGORIES:Church Event,Youth Events
END:VEVENT
BEGIN:VEVENT
DTSTART;TZID=Europe/London:20240424T193000
DTEND;TZID=Europe/London:20240424T193000
DTSTAMP:20260420T015806
CREATED:20240402T091814Z
LAST-MODIFIED:20240402T091819Z
UID:8627-1713987000-1713987000@legacurry.church
SUMMARY:Boys Cell Group
DESCRIPTION:
URL:https://legacurry.church/event/boys-cell-group-18/
CATEGORIES:Church Event,Youth Events
END:VEVENT
BEGIN:VEVENT
DTSTART;TZID=Europe/London:20240426T200000
DTEND;TZID=Europe/London:20240426T210000
DTSTAMP:20260420T015806
CREATED:20240402T091243Z
LAST-MODIFIED:20240402T091247Z
UID:8619-1714161600-1714165200@legacurry.church
SUMMARY:Company Section Parents Night
DESCRIPTION:
URL:https://legacurry.church/event/company-section-parents-night/
CATEGORIES:Church Event,Youth Events
END:VEVENT
BEGIN:VEVENT
DTSTART;TZID=Europe/London:20240428T193000
DTEND;TZID=Europe/London:20240428T193000
DTSTAMP:20260420T015806
CREATED:20240402T092123Z
LAST-MODIFIED:20240402T092200Z
UID:8631-1714332600-1714332600@legacurry.church
SUMMARY:18+ Fellowship
DESCRIPTION:at D Smyth’s home
URL:https://legacurry.church/event/18-fellowship-8/
CATEGORIES:Church Event,Youth Events
END:VEVENT
BEGIN:VEVENT
DTSTART;TZID=Europe/London:20240505T193000
DTEND;TZID=Europe/London:20240505T193000
DTSTAMP:20260420T015806
CREATED:20240430T101103Z
LAST-MODIFIED:20240430T101107Z
UID:8662-1714937400-1714937400@legacurry.church
SUMMARY:Youth Fellowship
DESCRIPTION:
URL:https://legacurry.church/event/youth-fellowship-20/
CATEGORIES:Youth Events
END:VEVENT
BEGIN:VEVENT
DTSTART;TZID=Europe/London:20240519T193000
DTEND;TZID=Europe/London:20240519T193000
DTSTAMP:20260420T015806
CREATED:20240430T103539Z
LAST-MODIFIED:20240430T103545Z
UID:8676-1716147000-1716147000@legacurry.church
SUMMARY:Youth Fellowship
DESCRIPTION:
URL:https://legacurry.church/event/youth-fellowship-21/
CATEGORIES:Youth Events
END:VEVENT
BEGIN:VEVENT
DTSTART;TZID=Europe/London:20240602T193000
DTEND;TZID=Europe/London:20240602T193000
DTSTAMP:20260420T015806
CREATED:20240528T102308Z
LAST-MODIFIED:20240528T102318Z
UID:8742-1717356600-1717356600@legacurry.church
SUMMARY:Youth Fellowship
DESCRIPTION:
URL:https://legacurry.church/event/youth-fellowship-22/
CATEGORIES:Youth Events
END:VEVENT
BEGIN:VEVENT
DTSTART;TZID=Europe/London:20240616T000000
DTEND;TZID=Europe/London:20240616T235959
DTSTAMP:20260420T015806
CREATED:20240528T110100Z
LAST-MODIFIED:20240528T110122Z
UID:8760-1718496000-1718582399@legacurry.church
SUMMARY:Youth Fellowship Beach Trip
DESCRIPTION:
URL:https://legacurry.church/event/youth-fellowship-beach-trip/
CATEGORIES:Youth Events
END:VEVENT
BEGIN:VEVENT
DTSTART;TZID=Europe/London:20240630T000000
DTEND;TZID=Europe/London:20240630T235959
DTSTAMP:20260420T015806
CREATED:20240528T110631Z
LAST-MODIFIED:20240528T110638Z
UID:8768-1719705600-1719791999@legacurry.church
SUMMARY:Youth Fellowship Day Trip
DESCRIPTION:
URL:https://legacurry.church/event/youth-fellowship-day-trip/
CATEGORIES:Youth Events
END:VEVENT
BEGIN:VEVENT
DTSTART;TZID=Europe/London:20240901T111500
DTEND;TZID=Europe/London:20240901T111500
DTSTAMP:20260420T015806
CREATED:20240822T120023Z
LAST-MODIFIED:20240822T120027Z
UID:8825-1725189300-1725189300@legacurry.church
SUMMARY:Sunday School resumes
DESCRIPTION:
URL:https://legacurry.church/event/sunday-school-resumes/
CATEGORIES:Youth Events
END:VEVENT
BEGIN:VEVENT
DTSTART;TZID=Europe/London:20240904T190000
DTEND;TZID=Europe/London:20240904T190000
DTSTAMP:20260420T015806
CREATED:20240822T120433Z
LAST-MODIFIED:20240822T120437Z
UID:8831-1725476400-1725476400@legacurry.church
SUMMARY:GB Uniform Swap Shop
DESCRIPTION:
URL:https://legacurry.church/event/gb-uniform-swap-shop/
CATEGORIES:Youth Events
END:VEVENT
BEGIN:VEVENT
DTSTART;TZID=Europe/London:20240906T184500
DTEND;TZID=Europe/London:20240906T184500
DTSTAMP:20260420T015806
CREATED:20240822T120736Z
LAST-MODIFIED:20240822T120739Z
UID:8835-1725648300-1725648300@legacurry.church
SUMMARY:BB Anchor Boys resume
DESCRIPTION:
URL:https://legacurry.church/event/bb-anchor-boys-resume/
CATEGORIES:Youth Events
END:VEVENT
BEGIN:VEVENT
DTSTART;TZID=Europe/London:20240906T184500
DTEND;TZID=Europe/London:20240906T184500
DTSTAMP:20260420T015806
CREATED:20240822T120954Z
LAST-MODIFIED:20240822T120958Z
UID:8838-1725648300-1725648300@legacurry.church
SUMMARY:BB Junior Section resumes
DESCRIPTION:
URL:https://legacurry.church/event/bb-junior-section-resumes/
CATEGORIES:Youth Events
END:VEVENT
BEGIN:VEVENT
DTSTART;TZID=Europe/London:20240906T200000
DTEND;TZID=Europe/London:20240906T200000
DTSTAMP:20260420T015806
CREATED:20240822T121140Z
LAST-MODIFIED:20240822T121144Z
UID:8840-1725652800-1725652800@legacurry.church
SUMMARY:BB Company Section resumes
DESCRIPTION:
URL:https://legacurry.church/event/bb-company-section-resumes/
CATEGORIES:Youth Events
END:VEVENT
BEGIN:VEVENT
DTSTART;TZID=Europe/London:20240911T180000
DTEND;TZID=Europe/London:20240911T180000
DTSTAMP:20260420T015806
CREATED:20240827T104447Z
LAST-MODIFIED:20240827T104451Z
UID:8882-1726077600-1726077600@legacurry.church
SUMMARY:GB Resumes
DESCRIPTION:
URL:https://legacurry.church/event/gb-resumes/
CATEGORIES:Youth Events
END:VEVENT
BEGIN:VEVENT
DTSTART;TZID=Europe/London:20240914T190000
DTEND;TZID=Europe/London:20240914T190000
DTSTAMP:20260420T015806
CREATED:20240827T104714Z
LAST-MODIFIED:20240827T104718Z
UID:8886-1726340400-1726340400@legacurry.church
SUMMARY:YF Outreach Night
DESCRIPTION:
URL:https://legacurry.church/event/yf-outreach-night/
CATEGORIES:Youth Events
END:VEVENT
BEGIN:VEVENT
DTSTART;TZID=Europe/London:20240922T193000
DTEND;TZID=Europe/London:20240922T193000
DTSTAMP:20260420T015806
CREATED:20240827T105105Z
LAST-MODIFIED:20240827T105109Z
UID:8892-1727033400-1727033400@legacurry.church
SUMMARY:Youth Fellowship
DESCRIPTION:
URL:https://legacurry.church/event/youth-fellowship-23/
CATEGORIES:Youth Events
END:VEVENT
BEGIN:VEVENT
DTSTART;TZID=Europe/London:20240929T193000
DTEND;TZID=Europe/London:20240929T193000
DTSTAMP:20260420T015806
CREATED:20240827T105432Z
LAST-MODIFIED:20240827T105437Z
UID:8898-1727638200-1727638200@legacurry.church
SUMMARY:18+ Fellowship
DESCRIPTION:
URL:https://legacurry.church/event/18-fellowship-10/
CATEGORIES:Youth Events
END:VEVENT
BEGIN:VEVENT
DTSTART;TZID=Europe/London:20241002T193000
DTEND;TZID=Europe/London:20241002T193000
DTSTAMP:20260420T015806
CREATED:20241001T115336Z
LAST-MODIFIED:20241001T115340Z
UID:8944-1727897400-1727897400@legacurry.church
SUMMARY:Boys Cell Group
DESCRIPTION:
URL:https://legacurry.church/event/boys-cell-group-19/
CATEGORIES:Youth Events
END:VEVENT
BEGIN:VEVENT
DTSTART;TZID=Europe/London:20241006T193000
DTEND;TZID=Europe/London:20241006T193000
DTSTAMP:20260420T015806
CREATED:20241001T115712Z
LAST-MODIFIED:20241001T115717Z
UID:8950-1728243000-1728243000@legacurry.church
SUMMARY:Youth Fellowship
DESCRIPTION:
URL:https://legacurry.church/event/youth-fellowship-24/
CATEGORIES:Youth Events
END:VEVENT
BEGIN:VEVENT
DTSTART;TZID=Europe/London:20241008T193000
DTEND;TZID=Europe/London:20241008T193000
DTSTAMP:20260420T015806
CREATED:20241001T115922Z
LAST-MODIFIED:20241001T115926Z
UID:8954-1728415800-1728415800@legacurry.church
SUMMARY:Senior Youth Cell
DESCRIPTION:
URL:https://legacurry.church/event/senior-youth-cell/
CATEGORIES:Youth Events
END:VEVENT
BEGIN:VEVENT
DTSTART;TZID=Europe/London:20241008T193000
DTEND;TZID=Europe/London:20241008T193000
DTSTAMP:20260420T015806
CREATED:20241001T120031Z
LAST-MODIFIED:20241001T120035Z
UID:8956-1728415800-1728415800@legacurry.church
SUMMARY:Girls Cell Group
DESCRIPTION:
URL:https://legacurry.church/event/girls-cell-group-3/
CATEGORIES:Youth Events
END:VEVENT
BEGIN:VEVENT
DTSTART;TZID=Europe/London:20241016T193000
DTEND;TZID=Europe/London:20241016T193000
DTSTAMP:20260420T015806
CREATED:20241001T120834Z
LAST-MODIFIED:20241001T120839Z
UID:8965-1729107000-1729107000@legacurry.church
SUMMARY:Boys Cell Group
DESCRIPTION:
URL:https://legacurry.church/event/boys-cell-group-20/
CATEGORIES:Youth Events
END:VEVENT
BEGIN:VEVENT
DTSTART;TZID=Europe/London:20241018T000000
DTEND;TZID=Europe/London:20241018T235959
DTSTAMP:20260420T015806
CREATED:20241001T121123Z
LAST-MODIFIED:20241001T121128Z
UID:8969-1729209600-1729295999@legacurry.church
SUMMARY:Youth Weekend
DESCRIPTION:Fri 18-Sun 20 Oct
URL:https://legacurry.church/event/youth-weekend/
CATEGORIES:Youth Events
END:VEVENT
BEGIN:VEVENT
DTSTART;TZID=Europe/London:20241022T193000
DTEND;TZID=Europe/London:20241022T193000
DTSTAMP:20260420T015806
CREATED:20241001T121501Z
LAST-MODIFIED:20241001T121505Z
UID:8975-1729625400-1729625400@legacurry.church
SUMMARY:Girls Cell Group
DESCRIPTION:
URL:https://legacurry.church/event/girls-cell-group-4/
CATEGORIES:Youth Events
END:VEVENT
END:VCALENDAR