BEGIN:VCALENDAR
VERSION:2.0
PRODID:-//Legacurry - ECPv6.15.20//NONSGML v1.0//EN
CALSCALE:GREGORIAN
METHOD:PUBLISH
X-WR-CALNAME:Legacurry
X-ORIGINAL-URL:https://legacurry.church
X-WR-CALDESC:Events for Legacurry
REFRESH-INTERVAL;VALUE=DURATION:PT1H
X-Robots-Tag:noindex
X-PUBLISHED-TTL:PT1H
BEGIN:VTIMEZONE
TZID:Europe/London
BEGIN:DAYLIGHT
TZOFFSETFROM:+0000
TZOFFSETTO:+0100
TZNAME:BST
DTSTART:20230326T010000
END:DAYLIGHT
BEGIN:STANDARD
TZOFFSETFROM:+0100
TZOFFSETTO:+0000
TZNAME:GMT
DTSTART:20231029T010000
END:STANDARD
BEGIN:DAYLIGHT
TZOFFSETFROM:+0000
TZOFFSETTO:+0100
TZNAME:BST
DTSTART:20240331T010000
END:DAYLIGHT
BEGIN:STANDARD
TZOFFSETFROM:+0100
TZOFFSETTO:+0000
TZNAME:GMT
DTSTART:20241027T010000
END:STANDARD
BEGIN:DAYLIGHT
TZOFFSETFROM:+0000
TZOFFSETTO:+0100
TZNAME:BST
DTSTART:20250330T010000
END:DAYLIGHT
BEGIN:STANDARD
TZOFFSETFROM:+0100
TZOFFSETTO:+0000
TZNAME:GMT
DTSTART:20251026T010000
END:STANDARD
BEGIN:DAYLIGHT
TZOFFSETFROM:+0000
TZOFFSETTO:+0100
TZNAME:BST
DTSTART:20260329T010000
END:DAYLIGHT
BEGIN:STANDARD
TZOFFSETFROM:+0100
TZOFFSETTO:+0000
TZNAME:GMT
DTSTART:20261025T010000
END:STANDARD
END:VTIMEZONE
BEGIN:VEVENT
DTSTART;TZID=Europe/London:20241006T193000
DTEND;TZID=Europe/London:20241006T193000
DTSTAMP:20260420T055743
CREATED:20241001T115712Z
LAST-MODIFIED:20241001T115717Z
UID:8950-1728243000-1728243000@legacurry.church
SUMMARY:Youth Fellowship
DESCRIPTION:
URL:https://legacurry.church/event/youth-fellowship-24/
CATEGORIES:Youth Events
END:VEVENT
BEGIN:VEVENT
DTSTART;TZID=Europe/London:20241008T193000
DTEND;TZID=Europe/London:20241008T193000
DTSTAMP:20260420T055743
CREATED:20241001T115922Z
LAST-MODIFIED:20241001T115926Z
UID:8954-1728415800-1728415800@legacurry.church
SUMMARY:Senior Youth Cell
DESCRIPTION:
URL:https://legacurry.church/event/senior-youth-cell/
CATEGORIES:Youth Events
END:VEVENT
BEGIN:VEVENT
DTSTART;TZID=Europe/London:20241008T193000
DTEND;TZID=Europe/London:20241008T193000
DTSTAMP:20260420T055743
CREATED:20241001T120031Z
LAST-MODIFIED:20241001T120035Z
UID:8956-1728415800-1728415800@legacurry.church
SUMMARY:Girls Cell Group
DESCRIPTION:
URL:https://legacurry.church/event/girls-cell-group-3/
CATEGORIES:Youth Events
END:VEVENT
BEGIN:VEVENT
DTSTART;TZID=Europe/London:20241016T193000
DTEND;TZID=Europe/London:20241016T193000
DTSTAMP:20260420T055743
CREATED:20241001T120834Z
LAST-MODIFIED:20241001T120839Z
UID:8965-1729107000-1729107000@legacurry.church
SUMMARY:Boys Cell Group
DESCRIPTION:
URL:https://legacurry.church/event/boys-cell-group-20/
CATEGORIES:Youth Events
END:VEVENT
BEGIN:VEVENT
DTSTART;TZID=Europe/London:20241018T000000
DTEND;TZID=Europe/London:20241018T235959
DTSTAMP:20260420T055743
CREATED:20241001T121123Z
LAST-MODIFIED:20241001T121128Z
UID:8969-1729209600-1729295999@legacurry.church
SUMMARY:Youth Weekend
DESCRIPTION:Fri 18-Sun 20 Oct
URL:https://legacurry.church/event/youth-weekend/
CATEGORIES:Youth Events
END:VEVENT
BEGIN:VEVENT
DTSTART;TZID=Europe/London:20241022T193000
DTEND;TZID=Europe/London:20241022T193000
DTSTAMP:20260420T055743
CREATED:20241001T121501Z
LAST-MODIFIED:20241001T121505Z
UID:8975-1729625400-1729625400@legacurry.church
SUMMARY:Girls Cell Group
DESCRIPTION:
URL:https://legacurry.church/event/girls-cell-group-4/
CATEGORIES:Youth Events
END:VEVENT
BEGIN:VEVENT
DTSTART;TZID=Europe/London:20241022T193000
DTEND;TZID=Europe/London:20241022T193000
DTSTAMP:20260420T055743
CREATED:20241001T121611Z
LAST-MODIFIED:20241001T121616Z
UID:8977-1729625400-1729625400@legacurry.church
SUMMARY:Senior Cell Group
DESCRIPTION:
URL:https://legacurry.church/event/senior-cell-group/
CATEGORIES:Youth Events
END:VEVENT
BEGIN:VEVENT
DTSTART;TZID=Europe/London:20241030T193000
DTEND;TZID=Europe/London:20241030T193000
DTSTAMP:20260420T055743
CREATED:20241001T121932Z
LAST-MODIFIED:20241001T121936Z
UID:8983-1730316600-1730316600@legacurry.church
SUMMARY:Boys Cell Group
DESCRIPTION:
URL:https://legacurry.church/event/boys-cell-group-21/
CATEGORIES:Youth Events
END:VEVENT
BEGIN:VEVENT
DTSTART;TZID=Europe/London:20241103T193000
DTEND;TZID=Europe/London:20241103T193000
DTSTAMP:20260420T055743
CREATED:20241029T111744Z
LAST-MODIFIED:20241029T111750Z
UID:9008-1730662200-1730662200@legacurry.church
SUMMARY:Youth Fellowship
DESCRIPTION:
URL:https://legacurry.church/event/youth-fellowship-25/
CATEGORIES:Youth Events
END:VEVENT
BEGIN:VEVENT
DTSTART;TZID=Europe/London:20241105T193000
DTEND;TZID=Europe/London:20241105T193000
DTSTAMP:20260420T055743
CREATED:20241029T113318Z
LAST-MODIFIED:20241029T113322Z
UID:9012-1730835000-1730835000@legacurry.church
SUMMARY:Girls Cell Group
DESCRIPTION:
URL:https://legacurry.church/event/girls-cell-group-5/
CATEGORIES:Youth Events
END:VEVENT
BEGIN:VEVENT
DTSTART;TZID=Europe/London:20241105T193000
DTEND;TZID=Europe/London:20241105T193000
DTSTAMP:20260420T055743
CREATED:20241029T113428Z
LAST-MODIFIED:20241029T113432Z
UID:9014-1730835000-1730835000@legacurry.church
SUMMARY:Senior Youth Cell Group
DESCRIPTION:
URL:https://legacurry.church/event/senior-youth-cell-group/
CATEGORIES:Youth Events
END:VEVENT
BEGIN:VEVENT
DTSTART;TZID=Europe/London:20241110T193000
DTEND;TZID=Europe/London:20241110T193000
DTSTAMP:20260420T055743
CREATED:20241029T114156Z
LAST-MODIFIED:20241029T114201Z
UID:9018-1731267000-1731267000@legacurry.church
SUMMARY:18+ Fellowship
DESCRIPTION:
URL:https://legacurry.church/event/18-fellowship-11/
CATEGORIES:Youth Events
END:VEVENT
BEGIN:VEVENT
DTSTART;TZID=Europe/London:20241113T193000
DTEND;TZID=Europe/London:20241113T193000
DTSTAMP:20260420T055743
CREATED:20241029T115221Z
LAST-MODIFIED:20241029T115226Z
UID:9022-1731526200-1731526200@legacurry.church
SUMMARY:Boys Cell Group
DESCRIPTION:
URL:https://legacurry.church/event/boys-cell-group-22/
CATEGORIES:Youth Events
END:VEVENT
BEGIN:VEVENT
DTSTART;TZID=Europe/London:20241117T193000
DTEND;TZID=Europe/London:20241117T193000
DTSTAMP:20260420T055743
CREATED:20241029T115521Z
LAST-MODIFIED:20241029T115525Z
UID:9026-1731871800-1731871800@legacurry.church
SUMMARY:Youth Fellowship
DESCRIPTION:
URL:https://legacurry.church/event/youth-fellowship-26/
CATEGORIES:Youth Events
END:VEVENT
BEGIN:VEVENT
DTSTART;TZID=Europe/London:20241119T193000
DTEND;TZID=Europe/London:20241119T193000
DTSTAMP:20260420T055743
CREATED:20241029T115743Z
LAST-MODIFIED:20241029T115747Z
UID:9030-1732044600-1732044600@legacurry.church
SUMMARY:Girls Cell Group
DESCRIPTION:
URL:https://legacurry.church/event/girls-cell-group-6/
CATEGORIES:Youth Events
END:VEVENT
BEGIN:VEVENT
DTSTART;TZID=Europe/London:20241119T193000
DTEND;TZID=Europe/London:20241119T193000
DTSTAMP:20260420T055743
CREATED:20241029T115850Z
LAST-MODIFIED:20241029T115854Z
UID:9032-1732044600-1732044600@legacurry.church
SUMMARY:Senior Youth Cell
DESCRIPTION:
URL:https://legacurry.church/event/senior-youth-cell-2/
CATEGORIES:Youth Events
END:VEVENT
BEGIN:VEVENT
DTSTART;TZID=Europe/London:20241127T193000
DTEND;TZID=Europe/London:20241127T193000
DTSTAMP:20260420T055743
CREATED:20241029T120423Z
LAST-MODIFIED:20241029T120428Z
UID:9040-1732735800-1732735800@legacurry.church
SUMMARY:Boys Cell Group
DESCRIPTION:
URL:https://legacurry.church/event/boys-cell-group-23/
CATEGORIES:Youth Events
END:VEVENT
BEGIN:VEVENT
DTSTART;TZID=Europe/London:20241203T193000
DTEND;TZID=Europe/London:20241203T193000
DTSTAMP:20260420T055743
CREATED:20241203T103927Z
LAST-MODIFIED:20241203T103930Z
UID:9061-1733254200-1733254200@legacurry.church
SUMMARY:Girls Cell Group
DESCRIPTION:
URL:https://legacurry.church/event/girls-cell-group-7/
CATEGORIES:Youth Events
END:VEVENT
BEGIN:VEVENT
DTSTART;TZID=Europe/London:20241203T193000
DTEND;TZID=Europe/London:20241203T193000
DTSTAMP:20260420T055743
CREATED:20241203T104035Z
LAST-MODIFIED:20241203T104037Z
UID:9063-1733254200-1733254200@legacurry.church
SUMMARY:Senior Youth Cell Group
DESCRIPTION:
URL:https://legacurry.church/event/senior-youth-cell-group-2/
CATEGORIES:Youth Events
END:VEVENT
BEGIN:VEVENT
DTSTART;TZID=Europe/London:20241208T193000
DTEND;TZID=Europe/London:20241208T193000
DTSTAMP:20260420T055743
CREATED:20241203T104413Z
LAST-MODIFIED:20241203T104415Z
UID:9069-1733686200-1733686200@legacurry.church
SUMMARY:18+ Fellowship
DESCRIPTION:
URL:https://legacurry.church/event/18-fellowship-12/
CATEGORIES:Youth Events
END:VEVENT
BEGIN:VEVENT
DTSTART;TZID=Europe/London:20241211T193000
DTEND;TZID=Europe/London:20241211T193000
DTSTAMP:20260420T055743
CREATED:20241203T104520Z
LAST-MODIFIED:20241203T104523Z
UID:9071-1733945400-1733945400@legacurry.church
SUMMARY:Boys Cell Group
DESCRIPTION:
URL:https://legacurry.church/event/boys-cell-group-24/
CATEGORIES:Youth Events
END:VEVENT
BEGIN:VEVENT
DTSTART;TZID=Europe/London:20241215T193000
DTEND;TZID=Europe/London:20241215T193000
DTSTAMP:20260420T055743
CREATED:20241203T104746Z
LAST-MODIFIED:20241203T104748Z
UID:9075-1734291000-1734291000@legacurry.church
SUMMARY:Youth Fellowship Christmas Social
DESCRIPTION:
URL:https://legacurry.church/event/youth-fellowship-christmas-social/
CATEGORIES:Youth Events
END:VEVENT
BEGIN:VEVENT
DTSTART;TZID=Europe/London:20241217T193000
DTEND;TZID=Europe/London:20241217T193000
DTSTAMP:20260420T055743
CREATED:20241203T104833Z
LAST-MODIFIED:20241203T104836Z
UID:9077-1734463800-1734463800@legacurry.church
SUMMARY:Girls Cell Group
DESCRIPTION:
URL:https://legacurry.church/event/girls-cell-group-8/
CATEGORIES:Youth Events
END:VEVENT
BEGIN:VEVENT
DTSTART;TZID=Europe/London:20250112T193000
DTEND;TZID=Europe/London:20250112T193000
DTSTAMP:20260420T055743
CREATED:20241218T192528Z
LAST-MODIFIED:20241218T192532Z
UID:9100-1736710200-1736710200@legacurry.church
SUMMARY:18+ Fellowship
DESCRIPTION:
URL:https://legacurry.church/event/18-fellowship-13/
CATEGORIES:Youth Events
END:VEVENT
BEGIN:VEVENT
DTSTART;TZID=Europe/London:20250126T193000
DTEND;TZID=Europe/London:20250126T193000
DTSTAMP:20260420T055743
CREATED:20241218T193202Z
LAST-MODIFIED:20241218T193205Z
UID:9112-1737919800-1737919800@legacurry.church
SUMMARY:Youth Fellowship
DESCRIPTION:
URL:https://legacurry.church/event/youth-fellowship-27/
CATEGORIES:Youth Events
END:VEVENT
BEGIN:VEVENT
DTSTART;TZID=Europe/London:20250128T193000
DTEND;TZID=Europe/London:20250128T193000
DTSTAMP:20260420T055743
CREATED:20241218T193414Z
LAST-MODIFIED:20241218T193417Z
UID:9116-1738092600-1738092600@legacurry.church
SUMMARY:Girls Cell Group
DESCRIPTION:
URL:https://legacurry.church/event/girls-cell-group-9/
CATEGORIES:Youth Events
END:VEVENT
BEGIN:VEVENT
DTSTART;TZID=Europe/London:20250129T193000
DTEND;TZID=Europe/London:20250129T193000
DTSTAMP:20260420T055743
CREATED:20241218T193514Z
LAST-MODIFIED:20241218T193517Z
UID:9118-1738179000-1738179000@legacurry.church
SUMMARY:Boys Cell Group
DESCRIPTION:
URL:https://legacurry.church/event/boys-cell-group-25/
CATEGORIES:Youth Events
END:VEVENT
BEGIN:VEVENT
DTSTART;TZID=Europe/London:20250209T193000
DTEND;TZID=Europe/London:20250209T193000
DTSTAMP:20260420T055743
CREATED:20250123T100914Z
LAST-MODIFIED:20250123T100917Z
UID:9134-1739129400-1739129400@legacurry.church
SUMMARY:Youth Fellowship
DESCRIPTION:
URL:https://legacurry.church/event/youth-fellowship-28/
CATEGORIES:Youth Events
END:VEVENT
BEGIN:VEVENT
DTSTART;TZID=Europe/London:20250211T193000
DTEND;TZID=Europe/London:20250211T193000
DTSTAMP:20260420T055743
CREATED:20250123T101152Z
LAST-MODIFIED:20250123T101155Z
UID:9138-1739302200-1739302200@legacurry.church
SUMMARY:Girls Cell Group
DESCRIPTION:
URL:https://legacurry.church/event/girls-cell-group-10/
CATEGORIES:Youth Events
END:VEVENT
BEGIN:VEVENT
DTSTART;TZID=Europe/London:20250211T193000
DTEND;TZID=Europe/London:20250211T193000
DTSTAMP:20260420T055743
CREATED:20250123T103042Z
LAST-MODIFIED:20250123T103044Z
UID:9140-1739302200-1739302200@legacurry.church
SUMMARY:Senior Youth Cell
DESCRIPTION:
URL:https://legacurry.church/event/senior-youth-cell-3/
CATEGORIES:Youth Events
END:VEVENT
END:VCALENDAR